BEGIN:VCALENDAR
VERSION:2.0
PRODID:-//St. James Seminary SHS - ECPv6.7.0//NONSGML v1.0//EN
CALSCALE:GREGORIAN
METHOD:PUBLISH
X-WR-CALNAME:St. James Seminary SHS
X-ORIGINAL-URL:https://stjameseminaryshs.edu.gh
X-WR-CALDESC:Events for St. James Seminary SHS
REFRESH-INTERVAL;VALUE=DURATION:PT1H
X-Robots-Tag:noindex
X-PUBLISHED-TTL:PT1H
BEGIN:VTIMEZONE
TZID:UTC
BEGIN:STANDARD
TZOFFSETFROM:+0000
TZOFFSETTO:+0000
TZNAME:UTC
DTSTART:20220101T000000
END:STANDARD
END:VTIMEZONE
BEGIN:VEVENT
DTSTART;TZID=UTC:20221016T120000
DTEND;TZID=UTC:20221016T170000
DTSTAMP:20260422T223049
CREATED:20221014T145714Z
LAST-MODIFIED:20221014T145714Z
UID:1330-1665921600-1665939600@stjameseminaryshs.edu.gh
SUMMARY:NSMQ - Day 2 Contest (Sun. Oct. 16\, 2022)
DESCRIPTION:St. James Seminary & SHS to compete with St. Peter’s SHS & Drobo SHS in the coming contest on  October 16\, 2022. \n \n 
URL:https://stjameseminaryshs.edu.gh/event/nsmq-day-2-contest-sun-oct-16-2022/
LOCATION:Bono Region
CATEGORIES:NSMQ 2022
ATTACH;FMTTYPE=image/jpeg:https://stjameseminaryshs.edu.gh/wp-content/uploads/2022/10/IMG-20221010-WA0041.jpg
END:VEVENT
END:VCALENDAR